View In:
ArcGIS JavaScript
ArcGIS Online Map Viewer
ArcGIS Earth
Service Description: ICLUS/ImperviousSurfaceB1
Name: ICLUS/ImperviousSurfaceB1
Description:
Single Fused Map Cache: false
Extent:
XMin: -1.4236703793200001E7
YMin: 2615948.9640000015
XMax: -7272703.793200001
YMax: 6729948.964000002
Spatial Reference: 102100
(3857)
Initial Extent:
XMin: -1.4236703793200001E7
YMin: 2615948.9640000015
XMax: -7272703.793200001
YMax: 6729948.964000002
Spatial Reference: 102100
(3857)
Full Extent:
XMin: -1.4236703793200001E7
YMin: 2615948.9640000015
XMax: -7272703.793200001
YMax: 6729948.964000002
Spatial Reference: 102100
(3857)
Time Info:
Start Time Field: Year
End Time Field: Year
Time Extent:
[2010/01/01 05:00:00 UTC, 2100/01/01 05:00:00 UTC]
Time Reference:
N/A
Pixel Size X: 1000.0
Pixel Size Y: 1000.0
Band Count: 3
Pixel Type: U8
RasterFunction Infos: {"rasterFunctionInfos": [{
"help": "",
"name": "None",
"description": ""
}]}
Mensuration Capabilities:
Inspection Capabilities:
Has Histograms: true
Has Colormap: false
Has Multi Dimensions : false
Rendering Rule:
Min Scale: 0
Max Scale: 0
Copyright Text:
Service Data Type: esriImageServiceDataTypeRGB
Min Values: 179, 0, 0
Max Values: 254, 240, 217
Mean Values: 252.29493898140004, 227.78615506501623, 200.104287655999
Standard Deviation Values: 9.5277995738157344, 38.896542140207693, 43.261009149554333
Object ID Field: OBJECTID
Fields:
-
OBJECTID
(
alias: OBJECTID, type: esriFieldTypeOID
)
-
Shape
(
alias: Shape, type: esriFieldTypeGeometry
)
-
Name
(
length: 50, alias: Name, type: esriFieldTypeString
)
-
MinPS
(
alias: MinPS, type: esriFieldTypeDouble
)
-
MaxPS
(
alias: MaxPS, type: esriFieldTypeDouble
)
-
LowPS
(
alias: LowPS, type: esriFieldTypeDouble
)
-
HighPS
(
alias: HighPS, type: esriFieldTypeDouble
)
-
Category
(
alias: Category, type: esriFieldTypeInteger
, Coded Values:
[0: Unknown]
, [1: Primary]
, [2: Overview]
, ...5 more...
)
-
Tag
(
length: 20, alias: Tag, type: esriFieldTypeString
)
-
GroupName
(
length: 50, alias: GroupName, type: esriFieldTypeString
)
-
ProductName
(
length: 50, alias: ProductName, type: esriFieldTypeString
)
-
CenterX
(
alias: CenterX, type: esriFieldTypeDouble
)
-
CenterY
(
alias: CenterY, type: esriFieldTypeDouble
)
-
ZOrder
(
alias: ZOrder, type: esriFieldTypeInteger
)
-
Shape_Length
(
alias: Shape_Length, type: esriFieldTypeDouble
)
-
Shape_Area
(
alias: Shape_Area, type: esriFieldTypeDouble
)
Default Mosaic Method: Northwest
Allowed Mosaic Methods: NorthWest,Center,LockRaster,ByAttribute,Nadir,Viewpoint,Seamline,None
SortField:
SortValue: N/A
Mosaic Operator: First
Default Compression Quality: 75
Default Resampling Method: Bilinear
Max Record Count: 1000
Max Image Height: 4100
Max Image Width: 15000
Max Download Image Count: 20
Max Mosaic Image Count: 20
Allow Raster Function: true
Allow Copy: true
Allow Analysis: true
Allow Compute TiePoints: false
Supports Statistics: true
Supports Advanced Queries: true
Use StandardizedQueries: true
Raster Type Infos:
Name: Raster Dataset
Description: Supports all ArcGIS Raster Datasets
Help:
Has Raster Attribute Table: false
Edit Fields Info: N/A
Ownership Based AccessControl For Rasters: N/A
Child Resources:
Info
Histograms
Statistics
Key Properties
Legend
Raster Function Infos
Supported Operations:
Export Image
Query
Identify
Compute Histograms
Compute Statistics Histograms
Get Samples
Compute Class Statistics
Query GPS Info
Find Images
Image to Map
Map to Image
Measure from Image
Image to Map Multiray
Query Boundary
Compute Pixel Location
Compute Angles
Validate
Project